BEGIN:VCALENDAR
VERSION:2.0
PRODID:-//Church of All Saints - ECPv6.15.18//NONSGML v1.0//EN
CALSCALE:GREGORIAN
METHOD:PUBLISH
X-WR-CALNAME:Church of All Saints
X-ORIGINAL-URL:https://churchofallsaintsofrussia.org
X-WR-CALDESC:Events for Church of All Saints
REFRESH-INTERVAL;VALUE=DURATION:PT1H
X-Robots-Tag:noindex
X-PUBLISHED-TTL:PT1H
BEGIN:VTIMEZONE
TZID:America/New_York
BEGIN:DAYLIGHT
TZOFFSETFROM:-0500
TZOFFSETTO:-0400
TZNAME:EDT
DTSTART:20250309T070000
END:DAYLIGHT
BEGIN:STANDARD
TZOFFSETFROM:-0400
TZOFFSETTO:-0500
TZNAME:EST
DTSTART:20251102T060000
END:STANDARD
BEGIN:DAYLIGHT
TZOFFSETFROM:-0500
TZOFFSETTO:-0400
TZNAME:EDT
DTSTART:20260308T070000
END:DAYLIGHT
BEGIN:STANDARD
TZOFFSETFROM:-0400
TZOFFSETTO:-0500
TZNAME:EST
DTSTART:20261101T060000
END:STANDARD
BEGIN:DAYLIGHT
TZOFFSETFROM:-0500
TZOFFSETTO:-0400
TZNAME:EDT
DTSTART:20270314T070000
END:DAYLIGHT
BEGIN:STANDARD
TZOFFSETFROM:-0400
TZOFFSETTO:-0500
TZNAME:EST
DTSTART:20271107T060000
END:STANDARD
BEGIN:DAYLIGHT
TZOFFSETFROM:-0500
TZOFFSETTO:-0400
TZNAME:EDT
DTSTART:20280312T070000
END:DAYLIGHT
BEGIN:STANDARD
TZOFFSETFROM:-0400
TZOFFSETTO:-0500
TZNAME:EST
DTSTART:20281105T060000
END:STANDARD
BEGIN:DAYLIGHT
TZOFFSETFROM:-0500
TZOFFSETTO:-0400
TZNAME:EDT
DTSTART:20290311T070000
END:DAYLIGHT
BEGIN:STANDARD
TZOFFSETFROM:-0400
TZOFFSETTO:-0500
TZNAME:EST
DTSTART:20291104T060000
END:STANDARD
BEGIN:DAYLIGHT
TZOFFSETFROM:-0500
TZOFFSETTO:-0400
TZNAME:EDT
DTSTART:20300310T070000
END:DAYLIGHT
BEGIN:STANDARD
TZOFFSETFROM:-0400
TZOFFSETTO:-0500
TZNAME:EST
DTSTART:20301103T060000
END:STANDARD
END:VTIMEZONE
BEGIN:VEVENT
DTSTART;VALUE=DATE:20260707
DTEND;VALUE=DATE:20260708
DTSTAMP:20260420T055616
CREATED:20241225T164332Z
LAST-MODIFIED:20241225T164332Z
UID:10000601-1783382400-1783468799@churchofallsaintsofrussia.org
SUMMARY:Nativity of St. John the Forerunner
DESCRIPTION:
URL:https://churchofallsaintsofrussia.org/event/nativity-of-st-john-the-forerunner/2026-07-07/
CATEGORIES:Feasts - Immovable
END:VEVENT
BEGIN:VEVENT
DTSTART;VALUE=DATE:20270707
DTEND;VALUE=DATE:20270708
DTSTAMP:20260420T055616
CREATED:20241225T164332Z
LAST-MODIFIED:20241225T164332Z
UID:10000602-1814918400-1815004799@churchofallsaintsofrussia.org
SUMMARY:Nativity of St. John the Forerunner
DESCRIPTION:
URL:https://churchofallsaintsofrussia.org/event/nativity-of-st-john-the-forerunner/2027-07-07/
CATEGORIES:Feasts - Immovable
END:VEVENT
BEGIN:VEVENT
DTSTART;VALUE=DATE:20280707
DTEND;VALUE=DATE:20280708
DTSTAMP:20260420T055616
CREATED:20241225T164332Z
LAST-MODIFIED:20241225T164332Z
UID:10000603-1846540800-1846627199@churchofallsaintsofrussia.org
SUMMARY:Nativity of St. John the Forerunner
DESCRIPTION:
URL:https://churchofallsaintsofrussia.org/event/nativity-of-st-john-the-forerunner/2028-07-07/
CATEGORIES:Feasts - Immovable
END:VEVENT
BEGIN:VEVENT
DTSTART;VALUE=DATE:20290707
DTEND;VALUE=DATE:20290708
DTSTAMP:20260420T055616
CREATED:20241225T164332Z
LAST-MODIFIED:20241225T164332Z
UID:10000604-1878076800-1878163199@churchofallsaintsofrussia.org
SUMMARY:Nativity of St. John the Forerunner
DESCRIPTION:
URL:https://churchofallsaintsofrussia.org/event/nativity-of-st-john-the-forerunner/2029-07-07/
CATEGORIES:Feasts - Immovable
END:VEVENT
END:VCALENDAR