BEGIN:VCALENDAR
VERSION:2.0
PRODID:-//Church of All Saints - ECPv6.15.18//NONSGML v1.0//EN
CALSCALE:GREGORIAN
METHOD:PUBLISH
X-WR-CALNAME:Church of All Saints
X-ORIGINAL-URL:https://churchofallsaintsofrussia.org
X-WR-CALDESC:Events for Church of All Saints
REFRESH-INTERVAL;VALUE=DURATION:PT1H
X-Robots-Tag:noindex
X-PUBLISHED-TTL:PT1H
BEGIN:VTIMEZONE
TZID:America/New_York
BEGIN:DAYLIGHT
TZOFFSETFROM:-0500
TZOFFSETTO:-0400
TZNAME:EDT
DTSTART:20250309T070000
END:DAYLIGHT
BEGIN:STANDARD
TZOFFSETFROM:-0400
TZOFFSETTO:-0500
TZNAME:EST
DTSTART:20251102T060000
END:STANDARD
BEGIN:DAYLIGHT
TZOFFSETFROM:-0500
TZOFFSETTO:-0400
TZNAME:EDT
DTSTART:20260308T070000
END:DAYLIGHT
BEGIN:STANDARD
TZOFFSETFROM:-0400
TZOFFSETTO:-0500
TZNAME:EST
DTSTART:20261101T060000
END:STANDARD
BEGIN:DAYLIGHT
TZOFFSETFROM:-0500
TZOFFSETTO:-0400
TZNAME:EDT
DTSTART:20270314T070000
END:DAYLIGHT
BEGIN:STANDARD
TZOFFSETFROM:-0400
TZOFFSETTO:-0500
TZNAME:EST
DTSTART:20271107T060000
END:STANDARD
BEGIN:DAYLIGHT
TZOFFSETFROM:-0500
TZOFFSETTO:-0400
TZNAME:EDT
DTSTART:20280312T070000
END:DAYLIGHT
BEGIN:STANDARD
TZOFFSETFROM:-0400
TZOFFSETTO:-0500
TZNAME:EST
DTSTART:20281105T060000
END:STANDARD
BEGIN:DAYLIGHT
TZOFFSETFROM:-0500
TZOFFSETTO:-0400
TZNAME:EDT
DTSTART:20290311T070000
END:DAYLIGHT
BEGIN:STANDARD
TZOFFSETFROM:-0400
TZOFFSETTO:-0500
TZNAME:EST
DTSTART:20291104T060000
END:STANDARD
BEGIN:DAYLIGHT
TZOFFSETFROM:-0500
TZOFFSETTO:-0400
TZNAME:EDT
DTSTART:20300310T070000
END:DAYLIGHT
BEGIN:STANDARD
TZOFFSETFROM:-0400
TZOFFSETTO:-0500
TZNAME:EST
DTSTART:20301103T060000
END:STANDARD
END:VTIMEZONE
BEGIN:VEVENT
DTSTART;VALUE=DATE:20260614
DTEND;VALUE=DATE:20260615
DTSTAMP:20260422T044522
CREATED:20241226T092015Z
LAST-MODIFIED:20250827T120113Z
UID:10001806-1781424000-1781456400@churchofallsaintsofrussia.org
SUMMARY:Sunday of All Russian Saints
DESCRIPTION:
URL:https://churchofallsaintsofrussia.org/event/sunday-of-all-russian-saints/2026-06-14/
CATEGORIES:Feasts - Movable
END:VEVENT
BEGIN:VEVENT
DTSTART;VALUE=DATE:20270704
DTEND;VALUE=DATE:20270705
DTSTAMP:20260422T044522
CREATED:20241226T092015Z
LAST-MODIFIED:20250827T120113Z
UID:10001807-1814688000-1814720400@churchofallsaintsofrussia.org
SUMMARY:Sunday of All Russian Saints
DESCRIPTION:
URL:https://churchofallsaintsofrussia.org/event/sunday-of-all-russian-saints/2027-07-04/
CATEGORIES:Feasts - Movable
END:VEVENT
BEGIN:VEVENT
DTSTART;VALUE=DATE:20280618
DTEND;VALUE=DATE:20280619
DTSTAMP:20260422T044522
CREATED:20241226T092015Z
LAST-MODIFIED:20250827T120113Z
UID:10001808-1844928000-1844960400@churchofallsaintsofrussia.org
SUMMARY:Sunday of All Russian Saints
DESCRIPTION:
URL:https://churchofallsaintsofrussia.org/event/sunday-of-all-russian-saints/2028-06-18/
CATEGORIES:Feasts - Movable
END:VEVENT
BEGIN:VEVENT
DTSTART;VALUE=DATE:20290610
DTEND;VALUE=DATE:20290611
DTSTAMP:20260422T044522
CREATED:20241226T092015Z
LAST-MODIFIED:20250827T120113Z
UID:10001809-1875772800-1875805200@churchofallsaintsofrussia.org
SUMMARY:Sunday of All Russian Saints
DESCRIPTION:
URL:https://churchofallsaintsofrussia.org/event/sunday-of-all-russian-saints/2029-06-10/
CATEGORIES:Feasts - Movable
END:VEVENT
END:VCALENDAR